BEGIN:VCALENDAR
VERSION:2.0
PRODID:-//Rewind 80&#039;s - ECPv6.12.0.1//NONSGML v1.0//EN
CALSCALE:GREGORIAN
METHOD:PUBLISH
X-ORIGINAL-URL:https://www.rewind80sband.com
X-WR-CALDESC:Events for Rewind 80&#039;s
REFRESH-INTERVAL;VALUE=DURATION:PT1H
X-Robots-Tag:noindex
X-PUBLISHED-TTL:PT1H
BEGIN:VTIMEZONE
TZID:Australia/Melbourne
BEGIN:STANDARD
TZOFFSETFROM:+1100
TZOFFSETTO:+1000
TZNAME:AEST
DTSTART:20230401T160000
END:STANDARD
BEGIN:DAYLIGHT
TZOFFSETFROM:+1000
TZOFFSETTO:+1100
TZNAME:AEDT
DTSTART:20230930T160000
END:DAYLIGHT
END:VTIMEZONE
BEGIN:VEVENT
DTSTART;VALUE=DATE:20231202
DTEND;VALUE=DATE:20231203
DTSTAMP:20260422T183611
CREATED:20230806T152919Z
LAST-MODIFIED:20231105T130130Z
UID:3745-1701475200-1701561599@www.rewind80sband.com
SUMMARY:Cardinia
DESCRIPTION:Pakingham RW80s – Saturday 2nd December 2023 \n\nHome \n\n40 Lakeside Boulevard\, Pakenham VIC 3810\n1300 887 624\nccc@cardinia.vic.gov.au \n👉 Tickets – https://cardinia.sales.ticketsearch.com/sales/salesevent/112546
URL:https://www.rewind80sband.com/event/sat-tba-5/
END:VEVENT
END:VCALENDAR