BEGIN:VCALENDAR
VERSION:2.0
PRODID:-//Rewind 80&#039;s - ECPv6.12.0.1//NONSGML v1.0//EN
CALSCALE:GREGORIAN
METHOD:PUBLISH
X-ORIGINAL-URL:https://www.rewind80sband.com
X-WR-CALDESC:Events for Rewind 80&#039;s
REFRESH-INTERVAL;VALUE=DURATION:PT1H
X-Robots-Tag:noindex
X-PUBLISHED-TTL:PT1H
BEGIN:VTIMEZONE
TZID:Australia/Melbourne
BEGIN:STANDARD
TZOFFSETFROM:+1100
TZOFFSETTO:+1000
TZNAME:AEST
DTSTART:20240406T160000
END:STANDARD
BEGIN:DAYLIGHT
TZOFFSETFROM:+1000
TZOFFSETTO:+1100
TZNAME:AEDT
DTSTART:20241005T160000
END:DAYLIGHT
END:VTIMEZONE
BEGIN:VEVENT
DTSTART;VALUE=DATE:20240125
DTEND;VALUE=DATE:20240126
DTSTAMP:20260425T020053
CREATED:20230806T160348Z
LAST-MODIFIED:20231017T050206Z
UID:3773-1706140800-1706227199@www.rewind80sband.com
SUMMARY:Sun* NZ
DESCRIPTION:NZ
URL:https://www.rewind80sband.com/event/sun/
END:VEVENT
END:VCALENDAR