BEGIN:VCALENDAR
VERSION:2.0
PRODID:-//Rewind 80&#039;s - ECPv6.12.0.1//NONSGML v1.0//EN
CALSCALE:GREGORIAN
METHOD:PUBLISH
X-ORIGINAL-URL:https://www.rewind80sband.com
X-WR-CALDESC:Events for Rewind 80&#039;s
REFRESH-INTERVAL;VALUE=DURATION:PT1H
X-Robots-Tag:noindex
X-PUBLISHED-TTL:PT1H
BEGIN:VTIMEZONE
TZID:Australia/Melbourne
BEGIN:STANDARD
TZOFFSETFROM:+1100
TZOFFSETTO:+1000
TZNAME:AEST
DTSTART:20240406T160000
END:STANDARD
BEGIN:DAYLIGHT
TZOFFSETFROM:+1000
TZOFFSETTO:+1100
TZNAME:AEDT
DTSTART:20241005T160000
END:DAYLIGHT
END:VTIMEZONE
BEGIN:VEVENT
DTSTART;VALUE=DATE:20240504
DTEND;VALUE=DATE:20240505
DTSTAMP:20260420T080152
CREATED:20240304T132543Z
LAST-MODIFIED:20240318T022403Z
UID:4102-1714780800-1714867199@www.rewind80sband.com
SUMMARY:SatRw
DESCRIPTION:
URL:https://www.rewind80sband.com/event/sat-sthmorang/
LOCATION:Commercial Hotel\, 820 Plenty Road South Morang\, \, Melbourne\, 3752
END:VEVENT
END:VCALENDAR