BEGIN:VCALENDAR
VERSION:2.0
PRODID:-//Rewind 80&#039;s - ECPv6.12.0.1//NONSGML v1.0//EN
CALSCALE:GREGORIAN
METHOD:PUBLISH
X-WR-CALNAME:Rewind 80&#039;s
X-ORIGINAL-URL:https://www.rewind80sband.com
X-WR-CALDESC:Events for Rewind 80&#039;s
REFRESH-INTERVAL;VALUE=DURATION:PT1H
X-Robots-Tag:noindex
X-PUBLISHED-TTL:PT1H
BEGIN:VTIMEZONE
TZID:Australia/Melbourne
BEGIN:STANDARD
TZOFFSETFROM:+1100
TZOFFSETTO:+1000
TZNAME:AEST
DTSTART:20260404T160000
END:STANDARD
BEGIN:DAYLIGHT
TZOFFSETFROM:+1000
TZOFFSETTO:+1100
TZNAME:AEDT
DTSTART:20261003T160000
END:DAYLIGHT
END:VTIMEZONE
BEGIN:VEVENT
DTSTART;VALUE=DATE:20260109
DTEND;VALUE=DATE:20260110
DTSTAMP:20260421T211228
CREATED:20250602T050241Z
LAST-MODIFIED:20250818T131257Z
UID:4671-1767916800-1768003199@www.rewind80sband.com
SUMMARY:Fri-Shearwater
DESCRIPTION:https://moshtix.com.au/v2/event/rewind-80s/184299\nShearwater Resort\n17-23 Shearwater Blvd\, Shearwater TAS 7307
URL:https://www.rewind80sband.com/event/tas-tba-2/
LOCATION:Shearwater Resort\, 17-23 Shearwater Blvd\, Shearwater\, Tasmania\, 7307\, Australia
END:VEVENT
END:VCALENDAR