BEGIN:VCALENDAR
VERSION:2.0
PRODID:-//Rewind 80&#039;s - ECPv6.12.0.1//NONSGML v1.0//EN
CALSCALE:GREGORIAN
METHOD:PUBLISH
X-ORIGINAL-URL:https://www.rewind80sband.com
X-WR-CALDESC:Events for Rewind 80&#039;s
REFRESH-INTERVAL;VALUE=DURATION:PT1H
X-Robots-Tag:noindex
X-PUBLISHED-TTL:PT1H
BEGIN:VTIMEZONE
TZID:Australia/Melbourne
BEGIN:STANDARD
TZOFFSETFROM:+1100
TZOFFSETTO:+1000
TZNAME:AEST
DTSTART:20260404T160000
END:STANDARD
BEGIN:DAYLIGHT
TZOFFSETFROM:+1000
TZOFFSETTO:+1100
TZNAME:AEDT
DTSTART:20261003T160000
END:DAYLIGHT
END:VTIMEZONE
BEGIN:VEVENT
DTSTART;VALUE=DATE:20260111
DTEND;VALUE=DATE:20260112
DTSTAMP:20260419T224607
CREATED:20250602T045649Z
LAST-MODIFIED:20250818T131516Z
UID:4663-1768089600-1768175999@www.rewind80sband.com
SUMMARY:Sun-DodgesFerry
DESCRIPTION:https://moshtix.com.au/v2/event/rewind-80s/184300\nDodges Ferry Hotel\n519 Old Forcett Rd\, Dodges Ferry TAS 7173
URL:https://www.rewind80sband.com/event/tas-tba/
END:VEVENT
END:VCALENDAR