BEGIN:VCALENDAR
VERSION:2.0
PRODID:-//Rewind 80&#039;s - ECPv6.12.0.1//NONSGML v1.0//EN
CALSCALE:GREGORIAN
METHOD:PUBLISH
X-ORIGINAL-URL:https://www.rewind80sband.com
X-WR-CALDESC:Events for Rewind 80&#039;s
REFRESH-INTERVAL;VALUE=DURATION:PT1H
X-Robots-Tag:noindex
X-PUBLISHED-TTL:PT1H
BEGIN:VTIMEZONE
TZID:Australia/Melbourne
BEGIN:STANDARD
TZOFFSETFROM:+1100
TZOFFSETTO:+1000
TZNAME:AEST
DTSTART:20260404T160000
END:STANDARD
BEGIN:DAYLIGHT
TZOFFSETFROM:+1000
TZOFFSETTO:+1100
TZNAME:AEDT
DTSTART:20261003T160000
END:DAYLIGHT
END:VTIMEZONE
BEGIN:VEVENT
DTSTART;VALUE=DATE:20260626
DTEND;VALUE=DATE:20260627
DTSTAMP:20260421T223846
CREATED:20260408T131705Z
LAST-MODIFIED:20260408T131705Z
UID:5037-1782432000-1782518399@www.rewind80sband.com
SUMMARY:Fri-Officer
DESCRIPTION:TBA – Vicki
URL:https://www.rewind80sband.com/event/fri-officer/
END:VEVENT
END:VCALENDAR