BEGIN:VCALENDAR
VERSION:2.0
PRODID:-//Rewind 80&#039;s - ECPv6.12.0.1//NONSGML v1.0//EN
CALSCALE:GREGORIAN
METHOD:PUBLISH
X-WR-CALNAME:Rewind 80&#039;s
X-ORIGINAL-URL:https://www.rewind80sband.com
X-WR-CALDESC:Events for Rewind 80&#039;s
REFRESH-INTERVAL;VALUE=DURATION:PT1H
X-Robots-Tag:noindex
X-PUBLISHED-TTL:PT1H
BEGIN:VTIMEZONE
TZID:Australia/Melbourne
BEGIN:STANDARD
TZOFFSETFROM:+1100
TZOFFSETTO:+1000
TZNAME:AEST
DTSTART:20260404T160000
END:STANDARD
BEGIN:DAYLIGHT
TZOFFSETFROM:+1000
TZOFFSETTO:+1100
TZNAME:AEDT
DTSTART:20261003T160000
END:DAYLIGHT
END:VTIMEZONE
BEGIN:VEVENT
DTSTART;VALUE=DATE:20260718
DTEND;VALUE=DATE:20260719
DTSTAMP:20260420T002258
CREATED:20251107T092134Z
LAST-MODIFIED:20260222T122824Z
UID:4855-1784332800-1784419199@www.rewind80sband.com
SUMMARY:SeafordHotel
DESCRIPTION:Grab your tickets right here: https://bit.ly/3MSqGno and get ready to party like it’s 1985! Seaford is about to get a massive dose of 80s magic on Saturday\, July 18th\, as Rewind 80s Tribute Band takes over the stage at Seaford Hotel. \nThis isn’t just a show; it’s a high-octane time machine back to the era of Molly Meldrum and Countdown. From New Romantic glam to the synthesizers that defined a generation\, Australia’s most wanted 80s tribute band is bringing the authentic energy you remember from the days of Brashs and 3XY. \n GATHER THE GANG & SAVE! Planning a birthday or a hens night? Grab a crew of 6 or more and save $5 per ticket! Everything was better with friends in the 80s\, so get the squad together and let’s make it a night to remember.
URL:https://www.rewind80sband.com/event/sat-sea/
END:VEVENT
END:VCALENDAR