BEGIN:VCALENDAR
VERSION:2.0
PRODID:-//Rewind 80&#039;s - ECPv6.12.0.1//NONSGML v1.0//EN
CALSCALE:GREGORIAN
METHOD:PUBLISH
X-ORIGINAL-URL:https://www.rewind80sband.com
X-WR-CALDESC:Events for Rewind 80&#039;s
REFRESH-INTERVAL;VALUE=DURATION:PT1H
X-Robots-Tag:noindex
X-PUBLISHED-TTL:PT1H
BEGIN:VTIMEZONE
TZID:Australia/Melbourne
BEGIN:STANDARD
TZOFFSETFROM:+1100
TZOFFSETTO:+1000
TZNAME:AEST
DTSTART:20260404T160000
END:STANDARD
BEGIN:DAYLIGHT
TZOFFSETFROM:+1000
TZOFFSETTO:+1100
TZNAME:AEDT
DTSTART:20261003T160000
END:DAYLIGHT
END:VTIMEZONE
BEGIN:VEVENT
DTSTART;VALUE=DATE:20260809
DTEND;VALUE=DATE:20260810
DTSTAMP:20260420T092623
CREATED:20260227T083406Z
LAST-MODIFIED:20260328T010044Z
UID:4975-1786233600-1786319999@www.rewind80sband.com
SUMMARY:Mo's Desert\, QLD
DESCRIPTION:Time & Location\n09 Aug 2026\, 6:00 pm – 10:30 pm \nMo’s Desert Clubhouse\, 6/36 Central Dr\, Burleigh Heads QLD 4220\, Australia
URL:https://www.rewind80sband.com/event/friqld/
LOCATION:Mo’s Desert Clubhouse\, 6/36 Central Drive\, Burleigh Heads\, QLD\, Australia
END:VEVENT
END:VCALENDAR