BEGIN:VCALENDAR
VERSION:2.0
PRODID:-//Rewind 80&#039;s - ECPv6.12.0.1//NONSGML v1.0//EN
CALSCALE:GREGORIAN
METHOD:PUBLISH
X-ORIGINAL-URL:https://www.rewind80sband.com
X-WR-CALDESC:Events for Rewind 80&#039;s
REFRESH-INTERVAL;VALUE=DURATION:PT1H
X-Robots-Tag:noindex
X-PUBLISHED-TTL:PT1H
BEGIN:VTIMEZONE
TZID:Australia/Melbourne
BEGIN:STANDARD
TZOFFSETFROM:+1100
TZOFFSETTO:+1000
TZNAME:AEST
DTSTART:20240406T160000
END:STANDARD
BEGIN:DAYLIGHT
TZOFFSETFROM:+1000
TZOFFSETTO:+1100
TZNAME:AEDT
DTSTART:20241005T160000
END:DAYLIGHT
END:VTIMEZONE
BEGIN:VEVENT
DTSTART;VALUE=DATE:20240203
DTEND;VALUE=DATE:20240204
DTSTAMP:20260420T135529
CREATED:20230806T160431Z
LAST-MODIFIED:20230806T160431Z
UID:3775-1706918400-1707004799@www.rewind80sband.com
SUMMARY:Sat*
DESCRIPTION:NZ
URL:https://www.rewind80sband.com/event/sat-4/
END:VEVENT
BEGIN:VEVENT
DTSTART;VALUE=DATE:20240209
DTEND;VALUE=DATE:20240210
DTSTAMP:20260420T135529
CREATED:20231105T120816Z
LAST-MODIFIED:20231105T120816Z
UID:3913-1707436800-1707523199@www.rewind80sband.com
SUMMARY:*FRI
DESCRIPTION:PE
URL:https://www.rewind80sband.com/event/fri/
END:VEVENT
BEGIN:VEVENT
DTSTART;VALUE=DATE:20240210
DTEND;VALUE=DATE:20240211
DTSTAMP:20260420T135529
CREATED:20231105T120902Z
LAST-MODIFIED:20231105T120902Z
UID:3915-1707523200-1707609599@www.rewind80sband.com
SUMMARY:*Sat
DESCRIPTION:PE
URL:https://www.rewind80sband.com/event/sat-5/
END:VEVENT
BEGIN:VEVENT
DTSTART;VALUE=DATE:20240216
DTEND;VALUE=DATE:20240217
DTSTAMP:20260420T135529
CREATED:20231105T121022Z
LAST-MODIFIED:20231105T121022Z
UID:3917-1708041600-1708127999@www.rewind80sband.com
SUMMARY:*Fri-Espy
DESCRIPTION:PE
URL:https://www.rewind80sband.com/event/fri-espy/
END:VEVENT
BEGIN:VEVENT
DTSTART;VALUE=DATE:20240224
DTEND;VALUE=DATE:20240225
DTSTAMP:20260420T135529
CREATED:20230510T082634Z
LAST-MODIFIED:20230828T140511Z
UID:3651-1708732800-1708819199@www.rewind80sband.com
SUMMARY:Sat-RW
DESCRIPTION:DEB Sat
URL:https://www.rewind80sband.com/event/sat-birthdayrw/
END:VEVENT
END:VCALENDAR