BEGIN:VCALENDAR
VERSION:2.0
PRODID:-//Rewind 80&#039;s - ECPv6.12.0.1//NONSGML v1.0//EN
CALSCALE:GREGORIAN
METHOD:PUBLISH
X-WR-CALNAME:Rewind 80&#039;s
X-ORIGINAL-URL:https://www.rewind80sband.com
X-WR-CALDESC:Events for Rewind 80&#039;s
REFRESH-INTERVAL;VALUE=DURATION:PT1H
X-Robots-Tag:noindex
X-PUBLISHED-TTL:PT1H
BEGIN:VTIMEZONE
TZID:Australia/Melbourne
BEGIN:STANDARD
TZOFFSETFROM:+1100
TZOFFSETTO:+1000
TZNAME:AEST
DTSTART:20240406T160000
END:STANDARD
BEGIN:DAYLIGHT
TZOFFSETFROM:+1000
TZOFFSETTO:+1100
TZNAME:AEDT
DTSTART:20241005T160000
END:DAYLIGHT
END:VTIMEZONE
BEGIN:VEVENT
DTSTART;VALUE=DATE:20241115
DTEND;VALUE=DATE:20241116
DTSTAMP:20260420T181242
CREATED:20240922T131403Z
LAST-MODIFIED:20240922T131826Z
UID:4394-1731628800-1731715199@www.rewind80sband.com
SUMMARY:Show
DESCRIPTION:Sam & Jay
URL:https://www.rewind80sband.com/event/show/
END:VEVENT
BEGIN:VEVENT
DTSTART;VALUE=DATE:20241123
DTEND;VALUE=DATE:20241124
DTSTAMP:20260420T181242
CREATED:20240813T051850Z
LAST-MODIFIED:20240816T034231Z
UID:4355-1732320000-1732406399@www.rewind80sband.com
SUMMARY:Sat-Governors Hall.
DESCRIPTION:
URL:https://www.rewind80sband.com/event/sat-haw/
END:VEVENT
BEGIN:VEVENT
DTSTART;VALUE=DATE:20241130
DTEND;VALUE=DATE:20241201
DTSTAMP:20260420T181242
CREATED:20240626T075435Z
LAST-MODIFIED:20240626T075435Z
UID:4267-1732924800-1733011199@www.rewind80sband.com
SUMMARY:Sat-SD
DESCRIPTION:
URL:https://www.rewind80sband.com/event/sat-sd/
END:VEVENT
END:VCALENDAR