BEGIN:VCALENDAR
VERSION:2.0
PRODID:-//Rewind 80&#039;s - ECPv6.12.0.1//NONSGML v1.0//EN
CALSCALE:GREGORIAN
METHOD:PUBLISH
X-WR-CALNAME:Rewind 80&#039;s
X-ORIGINAL-URL:https://www.rewind80sband.com
X-WR-CALDESC:Events for Rewind 80&#039;s
REFRESH-INTERVAL;VALUE=DURATION:PT1H
X-Robots-Tag:noindex
X-PUBLISHED-TTL:PT1H
BEGIN:VTIMEZONE
TZID:Australia/Melbourne
BEGIN:STANDARD
TZOFFSETFROM:+1100
TZOFFSETTO:+1000
TZNAME:AEST
DTSTART:20250405T160000
END:STANDARD
BEGIN:DAYLIGHT
TZOFFSETFROM:+1000
TZOFFSETTO:+1100
TZNAME:AEDT
DTSTART:20251004T160000
END:DAYLIGHT
END:VTIMEZONE
BEGIN:VEVENT
DTSTART;VALUE=DATE:20250405
DTEND;VALUE=DATE:20250406
DTSTAMP:20260423T144031
CREATED:20250124T105453Z
LAST-MODIFIED:20250203T121020Z
UID:4489-1743811200-1743897599@www.rewind80sband.com
SUMMARY:Sat-Gateway
DESCRIPTION:www.rewind80smixtape.com.au
URL:https://www.rewind80sband.com/event/gateway/
LOCATION:Gateway Hotel\, 218-230 Princes Hwy\, Corio\, Victoria\, 3214\, Australia
END:VEVENT
BEGIN:VEVENT
DTSTART;VALUE=DATE:20250412
DTEND;VALUE=DATE:20250413
DTSTAMP:20260423T144031
CREATED:20250124T105546Z
LAST-MODIFIED:20250203T123047Z
UID:4491-1744416000-1744502399@www.rewind80sband.com
SUMMARY:Sat-Stamford
DESCRIPTION:
URL:https://www.rewind80sband.com/event/stamford/
LOCATION:The Stamford\, Cnr Stud & Wellington Rds\, Melbourne\, Australia
END:VEVENT
BEGIN:VEVENT
DTSTART;VALUE=DATE:20250426
DTEND;VALUE=DATE:20250427
DTSTAMP:20260423T144031
CREATED:20241216T164147Z
LAST-MODIFIED:20250407T033933Z
UID:4447-1745625600-1745711999@www.rewind80sband.com
SUMMARY:Sat-Melton
DESCRIPTION:MELTON ENTERTAINMENT PARK – 2 Ferris Road\, Melton\, Vic 3338 \nRewind 80’s Band – www.rewind80sband.com
URL:https://www.rewind80sband.com/event/fri-tcorp/
LOCATION:Melton Entertainment Park\, 2 Ferris Road\, Melton\, Victoria\, 3338\, Australia
END:VEVENT
END:VCALENDAR