BEGIN:VCALENDAR
VERSION:2.0
PRODID:-//Rewind 80&#039;s - ECPv6.12.0.1//NONSGML v1.0//EN
CALSCALE:GREGORIAN
METHOD:PUBLISH
X-WR-CALNAME:Rewind 80&#039;s
X-ORIGINAL-URL:https://www.rewind80sband.com
X-WR-CALDESC:Events for Rewind 80&#039;s
REFRESH-INTERVAL;VALUE=DURATION:PT1H
X-Robots-Tag:noindex
X-PUBLISHED-TTL:PT1H
BEGIN:VTIMEZONE
TZID:Australia/Melbourne
BEGIN:STANDARD
TZOFFSETFROM:+1100
TZOFFSETTO:+1000
TZNAME:AEST
DTSTART:20250405T160000
END:STANDARD
BEGIN:DAYLIGHT
TZOFFSETFROM:+1000
TZOFFSETTO:+1100
TZNAME:AEDT
DTSTART:20251004T160000
END:DAYLIGHT
END:VTIMEZONE
BEGIN:VEVENT
DTSTART;VALUE=DATE:20250502
DTEND;VALUE=DATE:20250503
DTSTAMP:20260423T061945
CREATED:20250124T105645Z
LAST-MODIFIED:20250203T123421Z
UID:4493-1746144000-1746230399@www.rewind80sband.com
SUMMARY:Fri-Skyways
DESCRIPTION:
URL:https://www.rewind80sband.com/event/skyways/
LOCATION:Skyways\, 113 Matthews Ave\, Airport West\, Victoria\, 3042\, Australia
END:VEVENT
BEGIN:VEVENT
DTSTART;VALUE=DATE:20250509
DTEND;VALUE=DATE:20250510
DTSTAMP:20260423T061945
CREATED:20241219T010406Z
LAST-MODIFIED:20250123T033314Z
UID:4457-1746748800-1746835199@www.rewind80sband.com
SUMMARY:Wedge-Sale
DESCRIPTION:
URL:https://www.rewind80sband.com/event/fri-sale/
END:VEVENT
BEGIN:VEVENT
DTSTART;VALUE=DATE:20250510
DTEND;VALUE=DATE:20250511
DTSTAMP:20260423T061945
CREATED:20250124T105742Z
LAST-MODIFIED:20250203T123902Z
UID:4495-1746835200-1746921599@www.rewind80sband.com
SUMMARY:Sat-Commercial
DESCRIPTION:Doors open 8pm – tickets cheaper online 👍
URL:https://www.rewind80sband.com/event/commercial/
LOCATION:Commercial Hotel\, 820 Plenty Road South Morang\, \, Melbourne\, 3752
END:VEVENT
BEGIN:VEVENT
DTSTART;VALUE=DATE:20250531
DTEND;VALUE=DATE:20250601
DTSTAMP:20260423T061945
CREATED:20250124T105847Z
LAST-MODIFIED:20250203T124219Z
UID:4497-1748649600-1748735999@www.rewind80sband.com
SUMMARY:Sat-Seaford
DESCRIPTION:
URL:https://www.rewind80sband.com/event/seaford/
LOCATION:Seaford Hotel\, 362 Dandenong Road\, Seaford\, Victoria\, Australia
END:VEVENT
END:VCALENDAR