BEGIN:VCALENDAR
VERSION:2.0
PRODID:-//Rewind 80&#039;s - ECPv6.12.0.1//NONSGML v1.0//EN
CALSCALE:GREGORIAN
METHOD:PUBLISH
X-WR-CALNAME:Rewind 80&#039;s
X-ORIGINAL-URL:https://www.rewind80sband.com
X-WR-CALDESC:Events for Rewind 80&#039;s
REFRESH-INTERVAL;VALUE=DURATION:PT1H
X-Robots-Tag:noindex
X-PUBLISHED-TTL:PT1H
BEGIN:VTIMEZONE
TZID:Australia/Melbourne
BEGIN:STANDARD
TZOFFSETFROM:+1100
TZOFFSETTO:+1000
TZNAME:AEST
DTSTART:20250405T160000
END:STANDARD
BEGIN:DAYLIGHT
TZOFFSETFROM:+1000
TZOFFSETTO:+1100
TZNAME:AEDT
DTSTART:20251004T160000
END:DAYLIGHT
END:VTIMEZONE
BEGIN:VEVENT
DTSTART;VALUE=DATE:20250607
DTEND;VALUE=DATE:20250608
DTSTAMP:20260422T235758
CREATED:20250130T043505Z
LAST-MODIFIED:20250602T031656Z
UID:4519-1749254400-1749340799@www.rewind80sband.com
SUMMARY:Sat-SS&A Albury
DESCRIPTION:SS&A Albury – 10pm start
URL:https://www.rewind80sband.com/event/sat-tba-7/
END:VEVENT
BEGIN:VEVENT
DTSTART;VALUE=DATE:20250621
DTEND;VALUE=DATE:20250622
DTSTAMP:20260422T235758
CREATED:20250124T110019Z
LAST-MODIFIED:20250203T124454Z
UID:4499-1750464000-1750550399@www.rewind80sband.com
SUMMARY:Sat-Burvale
DESCRIPTION:TBA
URL:https://www.rewind80sband.com/event/burvale/
LOCATION:The Burvale\, Cnr Burwood Hwy & Springvale rd\, Nunawading\, victoria\, 3131\, Australia
END:VEVENT
BEGIN:VEVENT
DTSTART;VALUE=DATE:20250627
DTEND;VALUE=DATE:20250628
DTSTAMP:20260422T235758
CREATED:20250129T002436Z
LAST-MODIFIED:20250518T104827Z
UID:4512-1750982400-1751068799@www.rewind80sband.com
SUMMARY:Fri-DarwinEC
DESCRIPTION:Darwin Entertainment Centre presents\nhttps://tickets.yourcentre.com.au/Shows/The-Rewind-80-s-Mixtape-Tour\nThe World’s Greatest 80’s Hits – LIVE! \nThe siren call of the 1980\, spandex and all\, is beckoning crowds across Australia. \nRewind 80’s Mixtape Tour is bringing the ultimate ‘80s party to your area of Planet Earth! \nThe mixtape was the love letter of the ‘80s – a carefully curated soundtrack of big emotions\, big dreams\, and even bigger sounds. Now\, it’s time to press play on nostalgia and experience it LIVE! \nThis multi-piece live show will deliver two high-energy party sets\, immersing guests in the ultimate celebration of nostalgia. Get ready for iconic hits from David Bowie\, Madonna\, Cyndi Lauper\, INXS\, Queen\, Kim Wilde\, Van Halen\, Duran Duran\, Guns N’ Roses\, Tears for Fears\, ABBA\, and more all on the mixtape setlist for the night. \nRewind 80’s brings the sound\, style\, and spirit of the era to life\, complete with video clips from the original artists\, making this a one-of-a-kind visual and musical experience! \nGrab your tickets now. This is a night you do not want to miss! \n 
URL:https://www.rewind80sband.com/event/darwin/
LOCATION:Darwin Entertainment Centre\, 93 Mitchell Street\, Darwin\, Northern Territory\, 0800\, Australia
END:VEVENT
BEGIN:VEVENT
DTSTART;VALUE=DATE:20250628
DTEND;VALUE=DATE:20250629
DTSTAMP:20260422T235758
CREATED:20250321T055752Z
LAST-MODIFIED:20250518T104544Z
UID:4602-1751068800-1751155199@www.rewind80sband.com
SUMMARY:Sat-Alice
DESCRIPTION:
URL:https://www.rewind80sband.com/event/sat-alice/
LOCATION:Alice Springs Convention Centre\, 93 Barrett Drive\, Alice Springs\, NT\, Australia
END:VEVENT
END:VCALENDAR