BEGIN:VCALENDAR
VERSION:2.0
PRODID:-//Rewind 80&#039;s - ECPv6.12.0.1//NONSGML v1.0//EN
CALSCALE:GREGORIAN
METHOD:PUBLISH
X-ORIGINAL-URL:https://www.rewind80sband.com
X-WR-CALDESC:Events for Rewind 80&#039;s
REFRESH-INTERVAL;VALUE=DURATION:PT1H
X-Robots-Tag:noindex
X-PUBLISHED-TTL:PT1H
BEGIN:VTIMEZONE
TZID:Australia/Melbourne
BEGIN:STANDARD
TZOFFSETFROM:+1100
TZOFFSETTO:+1000
TZNAME:AEST
DTSTART:20250405T160000
END:STANDARD
BEGIN:DAYLIGHT
TZOFFSETFROM:+1000
TZOFFSETTO:+1100
TZNAME:AEDT
DTSTART:20251004T160000
END:DAYLIGHT
END:VTIMEZONE
BEGIN:VEVENT
DTSTART;VALUE=DATE:20250809
DTEND;VALUE=DATE:20250810
DTSTAMP:20260422T225108
CREATED:20250226T015027Z
LAST-MODIFIED:20250727T091735Z
UID:4573-1754697600-1754783999@www.rewind80sband.com
SUMMARY:AirlieBeachHotel
DESCRIPTION:  \n \n  \n 
URL:https://www.rewind80sband.com/event/sat-syd-2/
LOCATION:Airlie Beach Hotel\, 16 The Esplanade\, Airlie Beach\, QLD\, 4802\, Australia
END:VEVENT
BEGIN:VEVENT
DTSTART;VALUE=DATE:20250810
DTEND;VALUE=DATE:20250811
DTSTAMP:20260422T225108
CREATED:20250323T030923Z
LAST-MODIFIED:20250727T091851Z
UID:4605-1754784000-1754870399@www.rewind80sband.com
SUMMARY:AirlieBeachHotel
DESCRIPTION:
URL:https://www.rewind80sband.com/event/sun-qld-2/
LOCATION:Airlie Beach Hotel\, 16 The Esplanade\, Airlie Beach\, QLD\, 4802\, Australia
END:VEVENT
BEGIN:VEVENT
DTSTART;VALUE=DATE:20250822
DTEND;VALUE=DATE:20250823
DTSTAMP:20260422T225108
CREATED:20250217T111320Z
LAST-MODIFIED:20250217T111320Z
UID:4565-1755820800-1755907199@www.rewind80sband.com
SUMMARY:Fri-Wedding
DESCRIPTION:
URL:https://www.rewind80sband.com/event/fri-wedding/
END:VEVENT
BEGIN:VEVENT
DTSTART;VALUE=DATE:20250823
DTEND;VALUE=DATE:20250824
DTSTAMP:20260422T225108
CREATED:20250729T102035Z
LAST-MODIFIED:20250814T100629Z
UID:4714-1755907200-1755993599@www.rewind80sband.com
SUMMARY:Booked-SamOnly
DESCRIPTION:Luke
URL:https://www.rewind80sband.com/event/booked-sat/
END:VEVENT
END:VCALENDAR