BEGIN:VCALENDAR
VERSION:2.0
PRODID:-//Rewind 80&#039;s - ECPv6.12.0.1//NONSGML v1.0//EN
CALSCALE:GREGORIAN
METHOD:PUBLISH
X-ORIGINAL-URL:https://www.rewind80sband.com
X-WR-CALDESC:Events for Rewind 80&#039;s
REFRESH-INTERVAL;VALUE=DURATION:PT1H
X-Robots-Tag:noindex
X-PUBLISHED-TTL:PT1H
BEGIN:VTIMEZONE
TZID:Australia/Melbourne
BEGIN:STANDARD
TZOFFSETFROM:+1100
TZOFFSETTO:+1000
TZNAME:AEST
DTSTART:20250405T160000
END:STANDARD
BEGIN:DAYLIGHT
TZOFFSETFROM:+1000
TZOFFSETTO:+1100
TZNAME:AEDT
DTSTART:20251004T160000
END:DAYLIGHT
END:VTIMEZONE
BEGIN:VEVENT
DTSTART;VALUE=DATE:20251004
DTEND;VALUE=DATE:20251005
DTSTAMP:20260422T135225
CREATED:20240604T050209Z
LAST-MODIFIED:20250518T105659Z
UID:4240-1759536000-1759622399@www.rewind80sband.com
SUMMARY:Sat-Cairns
DESCRIPTION: 
URL:https://www.rewind80sband.com/event/sat-corp/
LOCATION:Cairns Performing Arts Centre\, 9 - 11 Florence Street\, cairns\, QLD\, 4870\, Australia
END:VEVENT
BEGIN:VEVENT
DTSTART;VALUE=DATE:20251016
DTEND;VALUE=DATE:20251017
DTSTAMP:20260422T135225
CREATED:20250602T051510Z
LAST-MODIFIED:20250602T051525Z
UID:4676-1760572800-1760659199@www.rewind80sband.com
SUMMARY:Thurs-Corp
DESCRIPTION:Cape – FIN
URL:https://www.rewind80sband.com/event/thurs-corp-2/
END:VEVENT
BEGIN:VEVENT
DTSTART;VALUE=DATE:20251031
DTEND;VALUE=DATE:20251101
DTSTAMP:20260422T135225
CREATED:20250912T105255Z
LAST-MODIFIED:20250919T134154Z
UID:4793-1761868800-1761955199@www.rewind80sband.com
SUMMARY:Fri-Pokerface
DESCRIPTION:
URL:https://www.rewind80sband.com/event/fri-tba-3/
END:VEVENT
END:VCALENDAR