BEGIN:VCALENDAR
VERSION:2.0
PRODID:-//Rewind 80&#039;s - ECPv6.12.0.1//NONSGML v1.0//EN
CALSCALE:GREGORIAN
METHOD:PUBLISH
X-ORIGINAL-URL:https://www.rewind80sband.com
X-WR-CALDESC:Events for Rewind 80&#039;s
REFRESH-INTERVAL;VALUE=DURATION:PT1H
X-Robots-Tag:noindex
X-PUBLISHED-TTL:PT1H
BEGIN:VTIMEZONE
TZID:Australia/Melbourne
BEGIN:STANDARD
TZOFFSETFROM:+1100
TZOFFSETTO:+1000
TZNAME:AEST
DTSTART:20260404T160000
END:STANDARD
BEGIN:DAYLIGHT
TZOFFSETFROM:+1000
TZOFFSETTO:+1100
TZNAME:AEDT
DTSTART:20261003T160000
END:DAYLIGHT
END:VTIMEZONE
BEGIN:VEVENT
DTSTART;VALUE=DATE:20261003
DTEND;VALUE=DATE:20261004
DTSTAMP:20260422T035725
CREATED:20260330T053731Z
LAST-MODIFIED:20260330T053731Z
UID:5021-1790985600-1791071999@www.rewind80sband.com
SUMMARY:SS&A
DESCRIPTION:Birthday celebrations
URL:https://www.rewind80sband.com/event/ssa/
LOCATION:SS&A Albury\, 570/582 Olive St\, Albury\, NSW\, 2640\, Australia
END:VEVENT
BEGIN:VEVENT
DTSTART;VALUE=DATE:20261010
DTEND;VALUE=DATE:20261011
DTSTAMP:20260422T035725
CREATED:20251107T092715Z
LAST-MODIFIED:20251107T092715Z
UID:4864-1791590400-1791676799@www.rewind80sband.com
SUMMARY:Sat-Vill
DESCRIPTION:
URL:https://www.rewind80sband.com/event/sat-vill/
END:VEVENT
BEGIN:VEVENT
DTSTART;VALUE=DATE:20261024
DTEND;VALUE=DATE:20261025
DTSTAMP:20260422T035725
CREATED:20251107T092827Z
LAST-MODIFIED:20251107T092827Z
UID:4867-1792800000-1792886399@www.rewind80sband.com
SUMMARY:Sat-Gate
DESCRIPTION:
URL:https://www.rewind80sband.com/event/sat-gate/
END:VEVENT
END:VCALENDAR